BEGIN:VCALENDAR
PRODID:-//Cornell Cooperative Extension of Chemung County//NONSGML Cornell Cooperative Extension of Chemung County Events//EN
X-ORIGINAL-URL:
VERSION:2.0
CALSCALE:GREGORIAN
METHOD:PUBLISH
BEGIN:VEVENT
METHOD: PUBLISH
X-MS-OLK-FORCEINSPECTOROPEN:TRUE
DTSTART:20260629T090900
DTEND:20260629T160400
SUMMARY:4-H Camp Explore 2026: Step Right Up to 4-H
DTSTAMP:20110121T170000
LAST-MODIFIED:20260420T140258
CREATED:20260420T140258
SEQUENCE:0
TRANSP:TRANSPARENT
UID:32964
LOCATION:
URL:http://chemung.cce.cornell.edu/events/2026/06/29/4-h-camp-explore-2026-step-right-up-to-4-h
DESCRIPTION:4‑H Camp Explore is a fun, interactive day camp for youth ages 6–12, designed as a perfect “gap week” enrichment opportunity as school ends and before many summer camps begin! Youth will explore what 4‑H is all about through hands‑on activities, games, and themed workshops.Ages 8–12 choose from workshops | Cloverbuds stay togetherNo 4‑H experience required!$150 registration (payment required to hold spot)Scholarships available for eligible enrolled membersOlder youth can get involved as Junior &amp; Senior Counselors!Interested in financial assistance? Contact 4‑H staff—we’re happy to help!
CLASS:PUBLIC
CATEGORIES:
STATUS:CONFIRMED
END:VEVENT
END:VCALENDAR
n/a